BEGIN:VCALENDAR
VERSION:2.0
PRODID:-//Abbey Road - ECPv6.15.20//NONSGML v1.0//EN
CALSCALE:GREGORIAN
METHOD:PUBLISH
X-WR-CALNAME:Abbey Road
X-ORIGINAL-URL:https://abbeyroadmdp.com.ar
X-WR-CALDESC:Eventos para Abbey Road
REFRESH-INTERVAL;VALUE=DURATION:PT1H
X-Robots-Tag:noindex
X-PUBLISHED-TTL:PT1H
BEGIN:VTIMEZONE
TZID:America/Argentina/Buenos_Aires
BEGIN:STANDARD
TZOFFSETFROM:-0300
TZOFFSETTO:-0300
TZNAME:-03
DTSTART:20250101T000000
END:STANDARD
END:VTIMEZONE
BEGIN:VEVENT
DTSTART;TZID=America/Argentina/Buenos_Aires:20260417T210000
DTEND;TZID=America/Argentina/Buenos_Aires:20260417T210000
DTSTAMP:20260421T061958
CREATED:20260329T233645Z
LAST-MODIFIED:20260330T014834Z
UID:24907-1776459600-1776459600@abbeyroadmdp.com.ar
SUMMARY:ROCK DE ACÁ
DESCRIPTION:ROCK DE ACÁ\n\n\n \n\n\n📆 Viernes 17 de abril | 🕘21hs\n\n\nAPTO +14(Hasta las 00hs)\n\n\n\n\n\nShow en vivo \n\n\n– Ataraxia \n\n\n– Mil puertas \n\n\n– Slap! \n\n\n \n\n\n🎟ENTRADAS ANTICIPADAS🎫 en\n\n\n🎟️🎫🎟️🎫🎟🎫🎟🎫🎟🎫🎟🎫\n\n\n👇🏿👇🏿👇🏾👇👇🏼\n\n\nhttps://abbeyroadmdp.com.ar/\n\n\nTickets x2 desde $15000+ cargo por servicio\n\n\n\n\n\n👇👇🏻👇🏼👇🏽👇🏾👇🏿\n\n\nhttps://articket.com.ar/ROCK-DE-ACA-ATARAXIA-MIL-PUERTAS-SLAP/\n\n\n💳 💳 💳 *Checkea nuestras promos con tarjeta*\n\n\n \n\n\nEn efectivo 🪙💰 en:\n\n\n👉🏿 FAVA – Paseo de Compras: Luro 3247 – Mar del Plata.\n\n\n👉🏿@lacasadelasguitarrasmdp : Belgrano 3420 – Mar del Plata.\n\n\n👉🏿ADN Store: Calle 61 N° 2813 – Necochea.\n\n\n\n\n\n \n\n\nAbbey Road Concert Bar – Mar del Plata 🇦🇷\n\n\nMás info sobre nuestros shows?\n\n\nIngresá en:\n\n\nhttps://abbeyroadmdp.com.ar/\n\n\nReservas de mesa 🪑 al\n\n\n☎️📲 ó ✅️ Whatsappeanos\n\n\nal (223) 560-4000\n\n\n\n\n\n@abbeyroadconcertbar\n\n\n@abbeyroad.concertbar\n\n\n#abbeyroadmdp\n\n\n#abbeyroadmdq\n\n\n#abbeyroadconcertbar\n\n\n#mardelplata
URL:https://abbeyroadmdp.com.ar/evento/rock_de_aca10/
LOCATION:Mar del Plata\, Juan B Justo 620\, Mar del Plata\, Buenos Aires\, 7600\, Argentina
ATTACH;FMTTYPE=image/jpeg:https://abbeyroadmdp.com.ar/wp-content/uploads/2026/03/rockdeaca2C_1080x1350-Recuperado.jpg
END:VEVENT
END:VCALENDAR